BEGIN:VCALENDAR
VERSION:2.0
PRODID:-//Ein Hoch auf die Biene - ECPv6.15.17.1//NONSGML v1.0//EN
CALSCALE:GREGORIAN
METHOD:PUBLISH
X-WR-CALNAME:Ein Hoch auf die Biene
X-ORIGINAL-URL:https://iv-ennepetal.de
X-WR-CALDESC:Veranstaltungen für Ein Hoch auf die Biene
REFRESH-INTERVAL;VALUE=DURATION:PT1H
X-Robots-Tag:noindex
X-PUBLISHED-TTL:PT1H
BEGIN:VTIMEZONE
TZID:Europe/Berlin
BEGIN:DAYLIGHT
TZOFFSETFROM:+0100
TZOFFSETTO:+0200
TZNAME:CEST
DTSTART:20250330T010000
END:DAYLIGHT
BEGIN:STANDARD
TZOFFSETFROM:+0200
TZOFFSETTO:+0100
TZNAME:CET
DTSTART:20251026T010000
END:STANDARD
BEGIN:DAYLIGHT
TZOFFSETFROM:+0100
TZOFFSETTO:+0200
TZNAME:CEST
DTSTART:20260329T010000
END:DAYLIGHT
BEGIN:STANDARD
TZOFFSETFROM:+0200
TZOFFSETTO:+0100
TZNAME:CET
DTSTART:20261025T010000
END:STANDARD
BEGIN:DAYLIGHT
TZOFFSETFROM:+0100
TZOFFSETTO:+0200
TZNAME:CEST
DTSTART:20270328T010000
END:DAYLIGHT
BEGIN:STANDARD
TZOFFSETFROM:+0200
TZOFFSETTO:+0100
TZNAME:CET
DTSTART:20271031T010000
END:STANDARD
END:VTIMEZONE
BEGIN:VEVENT
DTSTART;TZID=Europe/Berlin:20260505T190000
DTEND;TZID=Europe/Berlin:20260505T210000
DTSTAMP:20260424T115712
CREATED:20260315T193323Z
LAST-MODIFIED:20260315T193323Z
UID:391-1778007600-1778014800@iv-ennepetal.de
SUMMARY:Monatsversammlung Mai 2026
DESCRIPTION:Die Monatsversammlung im Mai findet\, wie gewohnt\, am ersten Dienstag im Monat statt. \nGeplante Themen:  \n\nAktuelles aus dem Bienenvolk\n…\n\n 
URL:https://iv-ennepetal.de/index.php/event/monatsversammlung-mai-2026/
LOCATION:Lehrbienenstand\, Ennepetal-Voerde\, Deutschland
END:VEVENT
BEGIN:VEVENT
DTSTART;TZID=Europe/Berlin:20260608T190000
DTEND;TZID=Europe/Berlin:20260608T210000
DTSTAMP:20260424T115712
CREATED:20260315T193549Z
LAST-MODIFIED:20260315T193549Z
UID:393-1780945200-1780952400@iv-ennepetal.de
SUMMARY:Monatsversammlung Juni 2026
DESCRIPTION:Die Monatsversammlung im Juni findet\, wegen des Feiertages\, eine Woche später statt. \nGeplante Themen:  \n\nAktuelles aus dem Bienenvolk\n…\n\n 
URL:https://iv-ennepetal.de/index.php/event/monatsversammlung-juni-2026/
LOCATION:Lehrbienenstand\, Ennepetal-Voerde\, Deutschland
END:VEVENT
BEGIN:VEVENT
DTSTART;TZID=Europe/Berlin:20260906T100000
DTEND;TZID=Europe/Berlin:20260906T170000
DTSTAMP:20260424T115712
CREATED:20260315T163809Z
LAST-MODIFIED:20260321T095335Z
UID:377-1788688800-1788714000@iv-ennepetal.de
SUMMARY:Sommerfest 2026
DESCRIPTION:Auch in diesem Jahr findet wieder unser Sommerfest statt. \nAn unserem Lehrbienenstand im Voerder Wald bekommt ihr an diesem Tag\, neben vielen Infos rund um die Biene\, einen Einblick in die Welt der Hobbyimker. Dazu wird es auch in diesem Jahr ein Schaubienenvolk vor Ort geben. \nDarüber hinaus könnt ihr Honig und weitere Produkte von unseren Imkern kaufen oder in der Tombola gewinnen. \nNatürlich ist auch für das leibliche Wohl gesorgt. Es gibt Gegrilltes\, eine große Kuchenauswahl\, Kaffee und Kaltgetränke. \nWir freuen uns auf euren Besuch!
URL:https://iv-ennepetal.de/index.php/event/sommerfest-2026/
LOCATION:Lehrbienenstand\, Ennepetal-Voerde\, Deutschland
END:VEVENT
END:VCALENDAR